BEGIN:VCALENDAR
VERSION:2.0
PRODID:-//General Daniel Chappie James Flight Academy, Inc. - ECPv6.15.10//NONSGML v1.0//EN
CALSCALE:GREGORIAN
METHOD:PUBLISH
X-WR-CALNAME:General Daniel Chappie James Flight Academy, Inc.
X-ORIGINAL-URL:https://chappiejamesflightacademy.org
X-WR-CALDESC:Events for General Daniel Chappie James Flight Academy, Inc.
REFRESH-INTERVAL;VALUE=DURATION:PT1H
X-Robots-Tag:noindex
X-PUBLISHED-TTL:PT1H
BEGIN:VTIMEZONE
TZID:UTC
BEGIN:STANDARD
TZOFFSETFROM:+0000
TZOFFSETTO:+0000
TZNAME:UTC
DTSTART:20180101T000000
END:STANDARD
END:VTIMEZONE
BEGIN:VEVENT
DTSTART;TZID=UTC:20250531T100000
DTEND;TZID=UTC:20250531T120000
DTSTAMP:20260424T154323
CREATED:20250531T100031Z
LAST-MODIFIED:20251124T005809Z
UID:1484-1748685600-1748692800@chappiejamesflightacademy.org
SUMMARY:Our Kid’s Glider Design Class
DESCRIPTION:Join Our Kid’s Glider Design Class – Starts May 31st! \nThe General Daniel Chappie James Flight Academy is offering a fun and exciting Kid’s Glider Design Class for boys and girls ages 9–13. \nWe will be accepting 15 students for this hands-on experience. The program includes a series of classes that  starts this month and continues in June and July. \n\nFirst class starts Saturday\, May 31st\, from 10:00 AM – 12:00 PM\nJune and July class dates are TBD\nWe will meet once a month for 2 hours\nStudents will explore how gliders are designed and will use 3D printers to build their very own glider to take home\nYou must attend all 3 sessions to complete the class (required)\n\nIt will be educational\, creative\, and completely free of charge! \nIf you’re interested\, please email us at chappiejamesflightacademy@gmail.com to register.
URL:https://chappiejamesflightacademy.org/event/our-kids-glider-design-class/
LOCATION:Flight Academy\, 1608 Doctor M.L.K. Jr Dr\, Pensacola\, FL\, 32503\, United States
CATEGORIES:Camp,Special Event,Workshop
ATTACH;FMTTYPE=image/png:https://chappiejamesflightacademy.org/wp-content/uploads/2020/07/Workshops-1-1.png
ORGANIZER;CN="Chappie James Flight Academy":MAILTO:chappiejamesflightacademy@gmail.com
END:VEVENT
BEGIN:VEVENT
DTSTART;TZID=UTC:20241116T080000
DTEND;TZID=UTC:20241120T170000
DTSTAMP:20260424T154323
CREATED:20200708T075625Z
LAST-MODIFIED:20251124T010604Z
UID:1483-1731744000-1732122000@chappiejamesflightacademy.org
SUMMARY:Girls in Aviation Gulf Coast 2024
DESCRIPTION:2024 Girls in Aviation Day\nA Day of Inspiration and Exploration at the National Naval Aviation Museum\nThe skies are set to be a little brighter this November as the Naval Aviation Museum Foundation\, in collaboration with Women in Aviation International\, proudly presents “Girls in Aviation Gulf Coast 2024.” This dynamic event is dedicated to sparking passion and inspiration among young women who are eager to explore careers in aviation and aerospace. The event will take place on November 16\, 2024\, at the iconic National Naval Aviation Museum in Pensacola\, Florida. \nEvent Highlights\nWe are thrilled to announce that Michelle Curran\, a former United States Air Force (USAF) major and an esteemed pilot with the USAF Thunderbirds\, will be one of our keynote speakers. Known by her callsign “Mace\,” Curran has made history as the lead solo pilot for the Thunderbirds and was only the fifth woman to join this prestigious demonstration squadron. Her journey\, including her time as the opposing solo pilot in 2019 and leading the solo team in 2020 and 2021\, promises to be an inspiring highlight of the day. \nAttendees will have the rare opportunity to connect with trailblazing women from diverse sectors of the aviation industry. These remarkable women\, including air traffic controllers\, aviation maintenance experts\, and service members from the US Coast Guard (USCG)\, Navy (USN)\, Marine Corps (USMC)\, and Air Force (USAF)\, will share their experiences and insights. Their stories will illuminate the many exciting career paths available in aviation. \nThe event will feature a variety of interactive\, hands-on STEM activities designed to engage and educate. Highlights include: \n\nLockwire Bracelets: Learn about the engineering principles behind this essential aviation tool while crafting your own unique bracelet.\nStraw Rockets and Airplane Launches: Dive into the basics of aerodynamics with fun\, interactive experiments.\nFling Flyer Badge: Girl Scouts will have the chance to earn their Fling Flyer Badge with the Girl Scout Gateway Council.\nSimulator Flights: Experience the exhilaration of flying through engaging simulator sessions led by female aviators.\n\nAdditionally\, participants can enjoy creative aviation-themed activities\, such as decorating their own aviator sunglasses\, adding a fun twist to the day’s events. \nEvent Details\n\nDate: November 16\, 2024\nLocation: National Naval Aviation Museum\, Pensacola\, FL\nTime: 10:00 AM to 1:00 PM\nCost: $5 non-refundable registration fee\n\nGirls in Aviation Gulf Coast 2024 promises to be an enriching day of discovery\, learning\, and empowerment. Whether you’re a young woman with dreams of soaring in the aviation field or a supporter ready to encourage these ambitions\, this event is your chance to ignite a passion for aviation and explore the vast opportunities it offers. \nMark your calendars and get ready for a day filled with inspiration and excitement as we celebrate and support the next generation of women in aviation!
URL:https://chappiejamesflightacademy.org/event/girls-in-aviation-gulf-coast-2024/
LOCATION:NAS National Naval Aviation Museum\, National Naval Aviation Museum\, Pensacola\, FL\, United States
CATEGORIES:Camp,Special Event,Workshop
ATTACH;FMTTYPE=image/png:https://chappiejamesflightacademy.org/wp-content/uploads/2020/07/unnamed-18.png
ORGANIZER;CN="Chappie James Flight Academy":MAILTO:chappiejamesflightacademy@gmail.com
END:VEVENT
BEGIN:VEVENT
DTSTART;TZID=UTC:20190920T080000
DTEND;TZID=UTC:20190924T170000
DTSTAMP:20260424T154323
CREATED:20200708T075634Z
LAST-MODIFIED:20251121T184420Z
UID:1485-1568966400-1569344400@chappiejamesflightacademy.org
SUMMARY:Ribbon Cutting
DESCRIPTION:The new building expansion has been completed\, we are moved in & excited to announce the Ribbon Cutting & Grand Opening. Date: April 26thTime: 4:30 til 7Location: 1608 Dr. Martin Luther King Jr Drive\, Pensacola
URL:https://chappiejamesflightacademy.org/event/ribbon-cutting/
LOCATION:Flight Academy\, 1608 Doctor M.L.K. Jr Dr\, Pensacola\, FL\, 32503\, United States
CATEGORIES:Special Event
ATTACH;FMTTYPE=image/png:https://chappiejamesflightacademy.org/wp-content/uploads/2020/07/Ribbon-Cutting-Orange-002.png
ORGANIZER;CN="Chappie James Flight Academy":MAILTO:chappiejamesflightacademy@gmail.com
END:VEVENT
END:VCALENDAR